BEGIN:VCALENDAR
VERSION:2.0
PRODID:-//University of Scranton - PRO Community - ECPv6.6.1//NONSGML v1.0//EN
CALSCALE:GREGORIAN
METHOD:PUBLISH
X-WR-CALNAME:University of Scranton - PRO Community
X-ORIGINAL-URL:https://pro.ksom.scranton.edu
X-WR-CALDESC:Events for University of Scranton - PRO Community
REFRESH-INTERVAL;VALUE=DURATION:PT1H
X-Robots-Tag:noindex
X-PUBLISHED-TTL:PT1H
BEGIN:VTIMEZONE
TZID:America/New_York
BEGIN:DAYLIGHT
TZOFFSETFROM:-0500
TZOFFSETTO:-0400
TZNAME:EDT
DTSTART:20250309T070000
END:DAYLIGHT
BEGIN:STANDARD
TZOFFSETFROM:-0400
TZOFFSETTO:-0500
TZNAME:EST
DTSTART:20251102T060000
END:STANDARD
END:VTIMEZONE
BEGIN:VEVENT
DTSTART;TZID=America/New_York:20250905T110000
DTEND;TZID=America/New_York:20250905T140000
DTSTAMP:20260421T073248
CREATED:20250819T133857Z
LAST-MODIFIED:20250819T133857Z
UID:10000005-1757070000-1757080800@pro.ksom.scranton.edu
SUMMARY:Fall 2025 KSOM BBQ & Club Fair
DESCRIPTION:Fall 2025 KSOM BBQ & Club Fair \nKick off the semester at the KSOM Fall BBQ & Club Fair on Friday\, September 5\, 2025\, from 11:00 AM – 2:00 PM on Founders Green outside of Brennan Hall! \nEnjoy delicious food\, music\, and games while connecting with classmates\, faculty\, and staff. You will also get the chance to: \n\n\nExplore KSOM clubs and organizations \n\n\nMeet officers and moderators \n\n\nEarn ProSite points to use in the store \n\n\nSwipe your school ID to receive Passport credit for attending \n\n\n📍 Location: Founders Green (outside Brennan Hall)🌧 Rain date: Friday\, September 12\, 2025 \nWe can’t wait to see you there for an afternoon of fun\, community\, and celebration!
URL:https://pro.ksom.scranton.edu/event/fall-2025-ksom-bbq-club-fair/
CATEGORIES:Attendance,Event
END:VEVENT
END:VCALENDAR